BEGIN:VCALENDAR
VERSION:2.0
PRODID:-//Stadtgeschichte München//DE
CALSCALE:GREGORIAN
BEGIN:VEVENT
UID:18844@stadtgeschichte-muenchen.de
SUMMARY:Erinnerungsort Olympia-Attentat
DESCRIPTION:&lt;p&gt;Der Erinnerungsort Olympia-Attentat München 1972 ist den zwölf Opfern des Terroranschlags gewidmet: den elf israelischen Sportlern und dem deutschen Polizisten, die von den Attentätern getötet wurden. Ihre Biografien stehen am Erinnerungsort im Mittelpunkt, eine filmische Installation bringt den Besucherinnen und Besuchern außerdem die exakten zeitlichen Abläufe der Geiselnahme näher und ordnet die historisch überlieferten Film- und Audiodokumente der Ereignisse in ihrer politischen Dimension aus heutiger Sicht ein.&lt;/p&gt; &lt;p&gt;Der Rundgang im Olympiapark findet zum Jahrestag des Olympia- Attentats in Kooperation mit dem Jüdischen Museum München statt.&lt;/p&gt; 
DTSTART:20200906T140000
DTEND:20200906T153000
LOCATION:U-Bahn Haltestelle U3 Olympiapark-Ausgang BMW Welt
ORGANIZER:MVHS München Nord
END:VEVENT
END:VCALENDAR