BEGIN:VCALENDAR
VERSION:2.0
PRODID:-//Stadtgeschichte München//DE
CALSCALE:GREGORIAN
BEGIN:VEVENT
UID:18846@stadtgeschichte-muenchen.de
SUMMARY:Wo wird Politik gemacht? 
DESCRIPTION:&lt;p&gt;Der Bezirk Oberbayern ist nicht nur Träger der psychiatrischen und neurologischen Versorgung, sondern engagiert&amp;nbsp;sich unter anderem auch in der Kultur sowie Heimat-und Umweltpflege. Verwaltet wird der Bezirk Oberbayern durch den gleichzeitig mit dem Bayerischen Landtag gewählten Bezirkstag.&lt;/p&gt; &lt;p&gt;Bezirkstagspräsident Josef Mederer führt durch die Münchner Bezirksverwaltungu nd informiert über die Aufgaben der dritten kommunalen Ebene, die auch die Belange der Bürgerinnen und Bürger des Münchner Nordens berühren.&lt;/p&gt; 
DTSTART:20200528T160000
DTEND:20200528T180000
LOCATION:Bezirk Oberbayern Prinzregentenstr. 14 (Foyer)
ORGANIZER:MVHS München Nord
END:VEVENT
END:VCALENDAR