BEGIN:VCALENDAR
VERSION:2.0
PRODID:-//Stadtgeschichte München//DE
CALSCALE:GREGORIAN
BEGIN:VEVENT
UID:18851@stadtgeschichte-muenchen.de
SUMMARY:Moosach historisch und modern - ein Stadtteil im Wandel
DESCRIPTION:&lt;p&gt;Mit dem Rad geht es durch den historischen Teil Moosachs sowie zu den neuen Großbauprojekten wie dem Busbetriebshof, dem Meiller- Gelände oder dem Botanikum.&lt;/p&gt; &lt;p&gt;Entdecken Sie mit dem Fahrrad die Entwicklungen eines Stadtteils im Wandel.&lt;/p&gt; &lt;p&gt;In Kooperation mit dem Geschichtsverein Moosach e.V.&lt;/p&gt; 
DTSTART:20200428T173000
DTEND:20200428T193000
LOCATION:MVHS in Moosach - Bauberger- str. 6a
ORGANIZER:MVHS München Nord
END:VEVENT
END:VCALENDAR