BEGIN:VCALENDAR
VERSION:2.0
PRODID:-//Stadtgeschichte München//DE
CALSCALE:GREGORIAN
BEGIN:VEVENT
UID:18865@stadtgeschichte-muenchen.de
SUMMARY:Abfallwirtschaftsbetrieb München (AWM)
DESCRIPTION:&lt;p&gt;Vor mehr als 25 Jahren hat der Münchner Stadtrat das erste ökologische Abfallwirtschaftskonzept beschlossen, das durch den Abfallwirtschaftsbetrieb (AWM) konsequent umgesetzt wird. Was ist seither erreicht worden? Wodurch zeichnet sich der AWM aus und wie ist er aufgestellt, um auch künftige Herausforderungen zu meistern?&amp;nbsp;Was bedeutet Nachhaltigkeit für die Abfallwirtschaft? Frederic Weihberg vom AWM informiert über das Abfallkonzept in München.&lt;/p&gt; 
DTSTART:20200525T180000
DTEND:20200525T200000
LOCATION:Abfallwirtschaftsbetrieb, Foyer - Georg-BrauchIe-Ring 29
ORGANIZER:MVHS München Nord
END:VEVENT
END:VCALENDAR