BEGIN:VCALENDAR
VERSION:2.0
PRODID:-//Stadtgeschichte München//DE
CALSCALE:GREGORIAN
BEGIN:VEVENT
UID:18869@stadtgeschichte-muenchen.de
SUMMARY:Institut für Pathologie des Klinikums Schwabing
DESCRIPTION:&lt;p&gt;Zu Lebzeiten bekommen die wenigsten die Räumlichkeiten des Instituts für Pathologie zu Gesicht. Krimifans wird der Sektionssaal mit seiner Inschrift „ Mortui Vivos Docent&quot;, ,, Die Toten lehren die Lebenden&quot; dennoch bekannt vorkommen. Szenen für &lt;strong&gt;„&lt;/strong&gt;Tatort&lt;strong&gt;“&lt;/strong&gt;, &lt;strong&gt;„&lt;/strong&gt;Siska&lt;strong&gt;“&lt;/strong&gt;, &lt;strong&gt;„&lt;/strong&gt;Der Alte&lt;strong&gt;“&lt;/strong&gt;, &lt;strong&gt;„&lt;/strong&gt;Die Chefin&lt;strong&gt;“&lt;/strong&gt;, &lt;strong&gt;„&lt;/strong&gt;Polizeiruf 119&lt;strong&gt;“&lt;/strong&gt; oder die &lt;strong&gt;„&lt;/strong&gt;Eberhofer-Filme&lt;strong&gt;“&lt;/strong&gt; wurden hier gedreht. In der Präparate-Lehrsammlung können unter anderem 1500 Jahre alte Mumienteile aus Ägypten bestaunt werden. Oberpräperator Alfred Riepertinger führt durch die Sammlung und berichtet über seine spannende Arbeit.&lt;/p&gt; 
DTSTART:20200525T170000
DTEND:20200525T183000
LOCATION:Klinikum Schwabing, Institut für Pathologie, Haus 32, Kölner Platz 1 
ORGANIZER:MVHS München Nord
END:VEVENT
END:VCALENDAR