BEGIN:VCALENDAR
VERSION:2.0
PRODID:-//Stadtgeschichte München//DE
CALSCALE:GREGORIAN
BEGIN:VEVENT
UID:18876@stadtgeschichte-muenchen.de
SUMMARY:Natur im Stadtviertel
DESCRIPTION:&lt;p&gt;Die Panzerwiese und das Harteiholz stellen Relikte der ursprünglich weit ausgedehnten Münchner Heidelandschaft dar. Mitten in der Stadt findet man eine außerordentlich große Vielfalt an wärmeliebenden Tier- und Pflanzenarten. Teile des Schutzgebietes sind aktuell durch städtebaulichen Veränderungen gefährdet. Auch das wird Thema des ca. 8 km langen Rundgangs sein.&lt;/p&gt; &lt;p&gt;Bitte mitbringen: etwas zum Trinken, einen kleinen Imbiss, Wanderschuhe und eine der Witterung angemessene Kleidung und Ausrüstung.&lt;/p&gt; 
DTSTART:20200725T170000
DTEND:20200725T193000
LOCATION:Bahnsteig der U-Bahn-Station Dülferstr. (U2) •
ORGANIZER:MVHS München Nord
END:VEVENT
END:VCALENDAR