BEGIN:VCALENDAR
VERSION:2.0
PRODID:-//Stadtgeschichte München//DE
CALSCALE:GREGORIAN
BEGIN:VEVENT
UID:18882@stadtgeschichte-muenchen.de
SUMMARY:Das Botanikum
DESCRIPTION:&lt;p&gt;Ein grüner Ort und ein Ort der Kunst - das Botanikum am Rande Moosachs ist eine Mischung aus Gärtnerei, Künstlerareal und Eventlocation. In einigen Glashäusern von früherwachsen mediterrane Pflanzen, andere wurden umfunktioniert zu Veranstaltungsorten mit grünem Flair. Doch in den meisten finden sich heute einzigartige Ateliers für Kunst- und Kulturschaffende Münchens. Die Künstlerinnen Rosina Zimmermann und Benelisa Franco nehmen Sie mit auf einen Rundgang durch das Areal und laden Sie zu einem Besuch ihrer Ateliers ein. Dort erhalten Sie Einblicke in ihre Werke aus Malerei und Skulptur.&lt;/p&gt; 
DTSTART:20200512T173000
DTEND:20200512T190000
LOCATION:Botanikum, Haupteingang, Platz vor dem Büro - Feldmochinger Str. 75-19
ORGANIZER:MVHS München Nord
END:VEVENT
END:VCALENDAR