BEGIN:VCALENDAR
VERSION:2.0
PRODID:-//Stadtgeschichte München//DE
CALSCALE:GREGORIAN
BEGIN:VEVENT
UID:18888@stadtgeschichte-muenchen.de
SUMMARY:Der Wat-Thai-Tempel in Ramersdorf
DESCRIPTION:&lt;p&gt;Mittelpunkt für die bei uns lebenden Thailänderinnen und Thailänder ist das Wat - das Kloster mit seinen Mönchen. Es befindet sich in der Nähe des Giesinger Bahnhofs Und ist zugleich Sitz eines seit 1991 bestehenden Vereins, dem derzeit etwa 600 Mitglieder angehören. Seine Aufgabe ist die Pflege und Erhaltung der buddhistisch geprägten Kultur Thailands in München. Hier finden sie geistlichen Beistand und heimische Lebensformen. Freiwillige Spenden für den vorbereiteten Imbiss kommen der Einrichtung zugute, die jeden Interessierten willkommen heißt.&lt;/p&gt; 
DTSTART:20190911T180000
DTEND:20190911T200000
LOCATION:Wat-Thai-Tempel · Bad-Dürkheimer-Str. 14
ORGANIZER:MVHS München Ost
END:VEVENT
END:VCALENDAR