BEGIN:VCALENDAR
VERSION:2.0
PRODID:-//Stadtgeschichte München//DE
CALSCALE:GREGORIAN
BEGIN:VEVENT
UID:18890@stadtgeschichte-muenchen.de
SUMMARY:Giesinger Gespräche - Giesing sozial
DESCRIPTION:&lt;p&gt;Vertreterinnen und Vertreter der Bezirksausschüsse BA 17 und 18, der LH München und örtlicher Organisationen&lt;/p&gt; &lt;p&gt;Giesing hat in den letzten Jahren eine enorme Entwicklung genommen. Auf ehemaligen Industrie-Arealen (Agfa, Paulaner, Osram) sind neue Stadtquartiere entstanden bzw. im Entstehen. Grünflächen und Stadträume wurden neu gestaltet, Kulturprojekte neu entwickelt. Aber der Aufstieg Giesings zum attraktiven Wohn- quartier nahe der Isar kennt auch Verlierer: einkommensschwache Familien kommen durch steigende Mieten oft an den Rand ihrer Möglichkeiten, ältere Menschen haben in dem sich rasch verändernden Viertel Orientierungsprobleme. Welche Unterstützungsmöglichkeiten bieten Stadtverwaltung, soziale Einrichtungen und Initiativen?&lt;/p&gt; 
DTSTART:20200225T190000
DTEND:20200225T210000
LOCATION:MVHS - Severinstr. 6
ORGANIZER:MVHS München Ost
END:VEVENT
END:VCALENDAR