BEGIN:VCALENDAR
VERSION:2.0
PRODID:-//Stadtgeschichte München//DE
CALSCALE:GREGORIAN
BEGIN:VEVENT
UID:18893@stadtgeschichte-muenchen.de
SUMMARY:Wohnen in Berg am Laim
DESCRIPTION:&lt;p&gt;Berg am Laim wächst stark. Zahlreiche Eisenbahner-, Genossenschafts- und Sozialsiedlungen der städtischen Wohnungsgesellschaften Gewofag und GWG werden sukzessive grundsaniert. Daneben entstehen neue und attraktive Viertel wie Baumkirchen-Mitte, das Werksviertel oder das Gebiet rund um die künftige „Macherei&quot;. Berg am Laim wird modern, mit allen positiven und negativen Folgen: zunehmende Dichte, steigende Preise, zunehmender Verkehr einerseits, schöner Wohnen, bessere Einkaufs- und Freizeitangebote, vernetzte Grünflächen andererseits.&lt;/p&gt; 
DTSTART:20200628T110000
DTEND:20200628T130000
LOCATION:Baumkirchnerstr./Ecke Herrmann- Weinhauser Str., vor dem Ladenzentrum
ORGANIZER:MVHS München Ost
END:VEVENT
END:VCALENDAR