BEGIN:VCALENDAR
VERSION:2.0
PRODID:-//Stadtgeschichte München//DE
CALSCALE:GREGORIAN
BEGIN:VEVENT
UID:18896@stadtgeschichte-muenchen.de
SUMMARY:Auf historischen Pfaden in Berg am Laim:
DESCRIPTION:&lt;p&gt;Die 1748 erbaute Feldkapelle heißt heute Echardinger Kapelle, entsprechend ihrer Lage am historischen Wallfahrtsweg, der von Berg am Laim - am damaligen Weiler Echarding vorbei - nach Ramersdorf führte. Bei einem Bombenangriff schwer beschädigt, wurde die Kapelle Anfang der 1960er Jahre restlos beseitigt, aber 2001 wieder errichtet. Die Maikäfersiedlung war die erste große Volkswohnanlage der 1930er Jahre, von der noch einige sanierte Siedlungs-Reihenhäuschen im Original erhalten sind. Ein sehenswerter Straßenzug im heutigen modernen Wohnquartier.&lt;/p&gt; 
DTSTART:20200820T170000
DTEND:20200820T183000
LOCATION:Echardinger Kapelle, Grünanlage • Echardinger Str. 50
ORGANIZER:MVHS München Ost
END:VEVENT
END:VCALENDAR