BEGIN:VCALENDAR
VERSION:2.0
PRODID:-//Stadtgeschichte München//DE
CALSCALE:GREGORIAN
BEGIN:VEVENT
UID:18904@stadtgeschichte-muenchen.de
SUMMARY:,.Meister Possart liebte Pomp und Pathos
DESCRIPTION:&lt;p&gt;Vom Ende des 19. Jahrhunderts bis zu Beginn des Ersten Weltkriegs ließen sich in Bogenhausen Architekten und Bildhauer, Maler und Literaten, Gelehrte, Unternehmer und Wissenschaftler repräsentative Villen errichten. Einige der Gebäude sind zerstört, viele sind erhalten und erinnern an diese Zeit und an ihre illustren Bewohner, wie Alfons Prinz von Bayern, Martin Aufhäuser, Adolph von Hildebrand, Georg Kerschensteiner, Max Littmann, August und Georg Pschorr, Ernst von Possart, Wilhelm Conrad Röntgen, Joseph Ruederer oder Richard Willstätter.&lt;/p&gt; 
DTSTART:20200705T140000
DTEND:20200705T160000
LOCATION:Europaplatz/Prinzregentenstr., beim Friedensengel
ORGANIZER:MVHS München Ost
END:VEVENT
END:VCALENDAR