BEGIN:VCALENDAR
VERSION:2.0
PRODID:-//Stadtgeschichte München//DE
CALSCALE:GREGORIAN
BEGIN:VEVENT
UID:18910@stadtgeschichte-muenchen.de
SUMMARY:Die „Alte Ziegelei
DESCRIPTION:&lt;p&gt;Zwischen Haidhausen, Ramersdorf und Ismaning erstreckte sich ein „Land der Ziegeleien&quot; mit Lehmgruben, Trockenstadeln und Ringöfen. Die „Ziegelpatscher&quot; waren italienische Wanderarbeiter aus dem Friaul. Im Zieglerdorf Oberföhring führte die Ziegelei Josef Haid nach ihrer Stilllegung 1964 einen jahrzehntelangen Dornröschenschlaf, bis die meisten Ziegeleibauten abgerissen wurden. Der Verein NordOstKultur e. V. hat mit Unterstützung von Bürgern erreicht, dass ein für München einmaliges Industriedenkmal - das fast 100-jährige Maschinenhaus und der Trockenstadel - erhalten bleibt.&lt;/p&gt; 
DTSTART:20200912T170000
DTEND:20200912T183000
LOCATION:Zur Alten Ziegelei, beim Zugang zum Trockenstadel (kurzer Fußweg ab Bushaltestelle Muspillistr.)
ORGANIZER:MVHS München Ost
END:VEVENT
END:VCALENDAR