BEGIN:VCALENDAR
VERSION:2.0
PRODID:-//Stadtgeschichte München//DE
CALSCALE:GREGORIAN
BEGIN:VEVENT
UID:18912@stadtgeschichte-muenchen.de
SUMMARY:Das Prinzregententheater und Umgebung
DESCRIPTION:&lt;p&gt;Für Senioren&lt;/p&gt; &lt;p&gt;Am Isarhochufer entstand ab den 1890er Jahren das wohl schönste Villenviertel Münchens entlang der Maria-Theresia- und der Möhl- straße. Hier steht der Friedensengel, hier bauten die berühmtesten Architekten jener Zeit für wohlhabende Auftraggeber. Auch das vermutlich erste Jugendstilhaus vom „Stararchitekten&quot; Martin Dülfer, die Künstlervilla Franz von Stucks und das Haus des Bildhauers Hildebrandt sind hier zu finden.&lt;/p&gt; 
DTSTART:20200602T140000
DTEND:20200602T150000
LOCATION:Prinzregententheater, Haupteingang - Prinzregentenplatz 12
ORGANIZER:MVHS München Ost
END:VEVENT
END:VCALENDAR