BEGIN:VCALENDAR
VERSION:2.0
PRODID:-//Stadtgeschichte München//DE
CALSCALE:GREGORIAN
BEGIN:VEVENT
UID:18913@stadtgeschichte-muenchen.de
SUMMARY:kurzStgut: Kennen Sie den Münchner Osten?
DESCRIPTION:&lt;p&gt;Im Rahmen dieser Kooperationsveranstaltung nehmen Sie an einem kurzen bebilderten Stadtteilrätsel teil und erhalten anschließend einen Überblick über die MVHS-Stadtviertelthemen im Münchner Osten und die einschlägigen Medienbestände der der Münchner Stadtbibliothek.&lt;/p&gt; &lt;p&gt;kurz&amp;amp;gut-ein Angebot der MVHS und der Münchner Stadtbibliothek.&lt;/p&gt; 
DTSTART:20200311T180000
DTEND:20200311T183000
LOCATION:Stadtbibliothek • Deisenhofener Str. 20
ORGANIZER:MVHS München Ost
END:VEVENT
END:VCALENDAR