BEGIN:VCALENDAR
VERSION:2.0
PRODID:-//Stadtgeschichte München//DE
CALSCALE:GREGORIAN
BEGIN:VEVENT
UID:18917@stadtgeschichte-muenchen.de
SUMMARY:Kiesgruben, Kleingärten, Agfa und Stadtentwicklung:
DESCRIPTION:&lt;p&gt;Durch Maßnahmen der Städtebauförderung wurde das Gebiet zwischen Tegernseer Landstraße und Chiemgaustraße seit 2005 bis 2019 gezielt gestaltet. Auf dem ehemaligen Agfa-Gelände entstand ein modernes Wohngebiet, die Grünanlagen „Katzenbuckel&quot; und Weißenseepark wurden zu attraktiven Treffpunkten im Quartier. Der Spaziergang befasst sich mit der Firma Agfa, erinnert an Arbeitslager, Kiesgruben und Kleingärten sowie an die prägende Präsenz der Amerikaner, die nach dem Zweiten Weltkrieg bis 1992 in der benachbarten McGraw-Kaserne stationiert waren.&lt;/p&gt; 
DTSTART:20200818T170000
DTEND:20200818T190000
LOCATION:Ella-Lingens-Platz, Höhe Werner-Schlierf- Str. 25
ORGANIZER:MVHS München Ost
END:VEVENT
END:VCALENDAR