BEGIN:VCALENDAR
VERSION:2.0
PRODID:-//Stadtgeschichte München//DE
CALSCALE:GREGORIAN
BEGIN:VEVENT
UID:18920@stadtgeschichte-muenchen.de
SUMMARY:„Dei Uhr geht nach der Giasinga Heiwoag
DESCRIPTION:&lt;p&gt;Mit Unterstützung durch ein Funk-Hörsystem&lt;/p&gt; &lt;p&gt;Mit viel Spaß begeben wir uns auf die Spuren (mittelalterlicher) Redewendungen und Sprichwörter kreuz und quer durch Untergiesing und lernen so das Stadtviertel einmal ganz anders kennen. „Immer der Nase nach&quot; führt uns unser Weg anfangs entlang dem Auer Mühlbach, über den wir uns gedanklich „eine Eselsbrücke bauen&quot;. Wir kreuzen die Pilgersheimerstraße. Auf dem Weg durch die Birkenau werden wir uns „auf den Holzweg begeben&quot;. Unser Ziel ist der Rosengarten, wo wir uns davon überzeugen können, dass die Königin aller Blumen niemals ohne Dornen zu haben ist.&lt;/p&gt; 
DTSTART:20200910T170000
DTEND:20200910T183000
LOCATION:Alten- und Service-Zentrum • Kolumbusstr. 3
ORGANIZER:MVHS München Ost
END:VEVENT
END:VCALENDAR