BEGIN:VCALENDAR
VERSION:2.0
PRODID:-//Stadtgeschichte München//DE
CALSCALE:GREGORIAN
BEGIN:VEVENT
UID:18925@stadtgeschichte-muenchen.de
SUMMARY:Stammtisch der Erinnerungen für GiesingER
DESCRIPTION:&lt;p&gt;Für Senioren&lt;/p&gt; &lt;p&gt;Was bewegt uns Menschen und unsere Dinge? Die Entwicklung der Fahrzeuge begann mit der Erfindung des Rades vor rund 6000 Jahren und sie ist mit Elektroautos und kommerzieller Raumfahrt wahrscheinlich noch nicht an ihr Ende gekommen. Trotz zunehmender Kritik an mancher Mobilitätstechnik: fast jeder Mensch verbindet mit seinem ersten Fahr- oder Motorrad, dem ersten Auto oder Boot besondere Erinnerungen und Gefühle, über die nach einer historischen Einführung geredet werden soll.&lt;/p&gt; &lt;p&gt;In Kooperation mit Münchenstift und Alten- und Service-Zentrum Obergiesing.&lt;/p&gt; 
DTSTART:20200302T143000
DTEND:20200302T163000
LOCATION:MÜNCHENSTIFT Haus St. Martin - St.-Martin-Str. 34
ORGANIZER:MVHS München Ost
END:VEVENT
END:VCALENDAR