BEGIN:VCALENDAR
VERSION:2.0
PRODID:-//Stadtgeschichte München//DE
CALSCALE:GREGORIAN
BEGIN:VEVENT
UID:18926@stadtgeschichte-muenchen.de
SUMMARY:Stammtisch der Erinnerungen für GiesingER
DESCRIPTION:&lt;p&gt;Geht es Ihnen auch so? Hört man ein Lied oder Musikstück, weckt es oft Gefühle, Bilder gar Gerüche, die man mit ihm verbindet. Wir nehmen Sie mit auf eine musikalische Reise durch verschiedene Genres und ein Jahrhundert Musikgeschichte. Sie sind eingeladen zum Musikraten, Mitsingen oder einfach nur zum Zuhören. Lassen Sie sich von den Klängen in „alte Zeiten&quot; versetzen.&lt;/p&gt; &lt;p&gt;In Kooperation mit Münchenstift und Alten- und Service-Zentrum Obergiesing.&lt;/p&gt; 
DTSTART:20200427T143000
DTEND:20200427T163000
LOCATION:MÜNCHENSTIFT Haus St. Martin - St.-Martin-Str. 34
ORGANIZER:MVHS München Ost
END:VEVENT
END:VCALENDAR