BEGIN:VCALENDAR
VERSION:2.0
PRODID:-//Stadtgeschichte München//DE
CALSCALE:GREGORIAN
BEGIN:VEVENT
UID:18927@stadtgeschichte-muenchen.de
SUMMARY:Die diakonia GmbH
DESCRIPTION:&lt;p&gt;Die Führung zeigt die Bereiche Spendenannahme, Kleidersortierung zur Belieferung der Kleiderkammern und Ladengeschäfte der diakonia sowie Disposition und Fuhrpark. Sie erfahren, welche Wege die Kleiderspenden im Sinne der Nachhaltigkeit nehmen, welche Arbeitsplätze für Menschen mit Handicaps dadurch geschaffen werden und wie die stark gestiegene Zahl von Menschen, die in München an der Armutsgrenze leben, sowie Geflüchtete durch die diakonia mit guter Kleidung versorgt werden können.&lt;/p&gt; 
DTSTART:20200415T143000
DTEND:20200415T160000
LOCATION:diakonia secondhand, bei der Spendenannahme, Stahlgruberring 8 
ORGANIZER:MVHS München Ost
END:VEVENT
END:VCALENDAR