BEGIN:VCALENDAR
VERSION:2.0
PRODID:-//Stadtgeschichte München//DE
CALSCALE:GREGORIAN
BEGIN:VEVENT
UID:18943@stadtgeschichte-muenchen.de
SUMMARY:Die Münchner Friedhöfe
DESCRIPTION:&lt;p&gt;In München gibt es über 29 städtische und zwei israelitische Friedhöfe. Lioba Betten und Thomas Multhaup haben diese in ihrem Buch „Die Münchner Friedhöfe&quot; erkundet und geben Auskunft über mehr als 500 Gräber bekannter Persönlichkeiten. Die stimmungsvollen Fotos darin stammen von Jürgen Betten. Die Autoren stellen das Buch vor und informieren über Veränderungen der Friedhofs- und Bestattungskultur (neuartige Urnengräberanlagen, anonyme Bestattung, Bestattung unter Bäumen u.a.) während der vergangenen Jahre und Jahrzehnte.&lt;/p&gt; &lt;p&gt;In Kooperation mit der Stadtbibliothek Sendling&lt;/p&gt; 
DTSTART:20200428T193000
DTEND:20200428T210000
LOCATION:Stadtbibliothek - Albert-Roßhaupter-Str. 8
ORGANIZER:MVHS München Süd
END:VEVENT
END:VCALENDAR