BEGIN:VCALENDAR
VERSION:2.0
PRODID:-//Stadtgeschichte München//DE
CALSCALE:GREGORIAN
BEGIN:VEVENT
UID:18946@stadtgeschichte-muenchen.de
SUMMARY:Eine Tafel für Tausende
DESCRIPTION:&lt;p&gt;Seit 25 Jahren sammelt die Münchner Tafel e. V. Lebensmittelspenden für Bedürftige. Jede Woche verteilen 650 Ehrenamtliche an 27 Ausgabestellen und in 107 sozialen Einrichtungen im Münchner Stadtgebiet Lebensmittel an 20.000 Menschen in Armut. Der Verein finanziert sich ausschließlich aus Spenden, Sponsoren-Zuwendungen und Mitgliedsbeiträgen. Erläutert wird, woher die Lebensmittel kommen, wie sie verteilt werden und wer sie erhält. Es wird ein Blick in Lager und Büro der Tafel geworfen und es ist zu sehen, wie eine Ausgabestelle aufgebaut wird.&lt;/p&gt; &lt;p&gt;Die Führung geht über das Großmarktgelände, Trittsicherheit ist erforderlich. Wetterfeste Kleidung wird empfohlen.Teilnahme auf eigene Gefahr.&lt;/p&gt; 
DTSTART:20200708T120000
DTEND:20200708T133000
LOCATION:Großmarkthalle, Westtor • Thalkirchner Str./Höhe Oberländerstr.
ORGANIZER:MVHS München Süd
END:VEVENT
END:VCALENDAR