BEGIN:VCALENDAR
VERSION:2.0
PRODID:-//Stadtgeschichte München//DE
CALSCALE:GREGORIAN
BEGIN:VEVENT
UID:18947@stadtgeschichte-muenchen.de
SUMMARY:Die Alte Utting
DESCRIPTION:&lt;p&gt;Seit 2017 liegt der „Ammerseedampfer&quot; MS Utting auf der Sendlinger Eisenbahnbrücke vor Anker. Das Sonnendeck mit Cafe bietet einen fantastischen Blick über Münchens Häusermeer. Im Maschinenraum geben nicht mehr die Schiffsturbinen den Takt an, sondern spielen Musikgruppen auf, in den Salons gibt es neben kulinarischen auch literarische Leckerbissen. Erfahren Sie mehr über die Geschichte des Schiffes, den spektakulären Transport und Umbau und wohin die Alte Utting heute steuert. Heuern Sie an!&lt;/p&gt; 
DTSTART:20200317T160000
DTEND:20200317T170000
LOCATION:ThalkirchnerVEcke Lagerhausstr.
ORGANIZER:MVHS München Süd
END:VEVENT
END:VCALENDAR