BEGIN:VCALENDAR
VERSION:2.0
PRODID:-//Stadtgeschichte München//DE
CALSCALE:GREGORIAN
BEGIN:VEVENT
UID:18954@stadtgeschichte-muenchen.de
SUMMARY:Gastliches Sendling
DESCRIPTION:&lt;p&gt;Auf unserem Rundgang schauen wir bei Sendlinger Traditionsgaststätten vorbei und erfahren etwas über ihre Geschichte, Besonderheiten und die kulinarischen Spezialitäten. Auf unserem Weg liegen u.a. der „Sendlinger Augustiner&quot;, die griechische Taverne „Armonia&quot;, das „Centro Espanol&quot; und der legendäre „Flaucher Biergarten&quot;. Sendling hat in puncto Gastlichkeit ein vielfältiges Angebot, das Sie zum Abschluss der Führung im „Flaucher&quot; gern annehmen können.&lt;/p&gt; 
DTSTART:20200719T150000
DTEND:20200719T163000
LOCATION:Albert-Roßhaupter-Str. 8/Ecke Meindlstr.
ORGANIZER:MVHS München Süd
END:VEVENT
END:VCALENDAR