BEGIN:VCALENDAR
VERSION:2.0
PRODID:-//Stadtgeschichte München//DE
CALSCALE:GREGORIAN
BEGIN:VEVENT
UID:18957@stadtgeschichte-muenchen.de
SUMMARY:Kultplatz, Schmugglerhaus und Adlerhorst
DESCRIPTION:&lt;p&gt;Kaum ein Reiseführer erwähnt den Westpark, den zweitgrößten Park von München, eine der interessantesten Grünanlagen. Entdecken Sie auf verschlungenen Pfaden die Welt Asiens, und des Barocks sowie Denkmäler und Skulpturen, die selbst manche Münchner nicht kennen. Wer weiß vom Schloss im Westpark und wo steht ein Baumkreis? Wer ahnt, von welcher Landschaft sich der Gartenarchitekt inspirieren ließ? Welches Gebäude diente als Schmuggelversteck?&lt;/p&gt; &lt;p&gt;Der Westpark, eine Welt der Wunder&lt;/p&gt; &lt;p&gt;Gebührenfrei im Rahmen der Stadtteilwoche Sendling-Westpark&lt;/p&gt; 
DTSTART:20200619T163000
DTEND:20200619T183000
LOCATION:Westparkt vor dem Wirtshaus Rosengarten
ORGANIZER:MVHS München Süd
END:VEVENT
END:VCALENDAR