BEGIN:VCALENDAR
VERSION:2.0
PRODID:-//Stadtgeschichte München//DE
CALSCALE:GREGORIAN
BEGIN:VEVENT
UID:18977@stadtgeschichte-muenchen.de
SUMMARY:Der Waldfriedhof
DESCRIPTION:&lt;p&gt;Der Alte Teil des Friedhofs wurde nach Plänen von Stadtbaurat Hans Grässel angelegt. Er galt bei seiner Eröffnung im Jahr 1907 als „Sehenswürdigkeit für München&quot; und war der erste Waldfriedhof in Europa. Berühmte Architekten, Künstler, Musiker, Literaten, Verleger und Politiker haben hier ihre letzte Ruhestätte gefunden. In den 1960er Jahren wurde der Friedhof um den Neuen Teil erweitert.&lt;/p&gt; &lt;p&gt;Die Führung bewegt sich vom Alten in den Neuen Teil, in dem u.a. Bestattungen unter Bäumen möglich sind.&lt;/p&gt; 
DTSTART:20200912T143000
DTEND:20200912T160000
LOCATION:Waldfriedhof, Haupteingang Alter Teil - Fürstenrieder Str. 288
ORGANIZER:MVHS München Süd
END:VEVENT
END:VCALENDAR