BEGIN:VCALENDAR
VERSION:2.0
PRODID:-//Stadtgeschichte München//DE
CALSCALE:GREGORIAN
BEGIN:VEVENT
UID:18982@stadtgeschichte-muenchen.de
SUMMARY:Innenansichten russischer Kultur
DESCRIPTION:&lt;p&gt;Interkulturelle Unterschiede, alltägliche Besonderheiten, Missverständnisse zwischen Russen und Deutschen - an diesem Abend im Kloster des Hl. Hiob ist Gelegenheit, etwas mehr über das russische Leben, die Gebräuche und Werte zu erfahren, um diese besser zu verstehen. In der gemütlichen Bibliothek des russischen Klosters, welches sich gegenüber der malerischen Blutenburg befindet, erleben Sie am traditionellen Samovar, bei Tee und Kuchen russische Kultur pur.&lt;/p&gt; &lt;p&gt;In Kooperation mit dem Freundeskreis Kloster des Heiligen Hiob e.V.&lt;/p&gt; 
DTSTART:20200705T190000
DTEND:20200705T210000
LOCATION:Russisch-orthodoxes Kloster, am Klostereingang ■ Hofbauernstr. 26
ORGANIZER:MVHS München West
END:VEVENT
END:VCALENDAR