BEGIN:VCALENDAR
VERSION:2.0
PRODID:-//Stadtgeschichte München//DE
CALSCALE:GREGORIAN
BEGIN:VEVENT
UID:18984@stadtgeschichte-muenchen.de
SUMMARY:Rendezvous am Kochtopf - ein deutsch-afghanischer Küchentreff
DESCRIPTION:&lt;p&gt;Haben Sie schon einmal afghanisch gekocht? Leichte Köstlichkeiten und exotische Geschmackserlebnisse prägen diese Küche. Doch auch deutsche Kochkunst zeigt sich abwechslungsreich, oft auch raffiniert. An diesem Abenden werden Geflüchtete aus Afghanistan und beheimatete Teilnehmer gemeinsam schmackhafte Gerichte zubereiten und die Feinheiten der afghanischen Küche kennenlernen. Beim Kochen begegnen sich aber auch Menschen unterschiedlicher Kulturen auf Augenhöhe und haben Gelegenheit, sich dabei unbefangen kennenzulernen.&lt;/p&gt; 
DTSTART:20200708T170000
DTEND:20200708T210000
LOCATION:MVHS ■ Bäckerstr. 14
ORGANIZER:MVHS München West
END:VEVENT
END:VCALENDAR