BEGIN:VCALENDAR
VERSION:2.0
PRODID:-//Stadtgeschichte München//DE
CALSCALE:GREGORIAN
BEGIN:VEVENT
UID:18990@stadtgeschichte-muenchen.de
SUMMARY:Zeit zu handeln!
DESCRIPTION:
DTSTART:20200323T190000
DTEND:20200323T203000
LOCATION:Kulturzentrum ubo9 ■ Ubostr. 9
ORGANIZER:MVHS München West
END:VEVENT
END:VCALENDAR