BEGIN:VCALENDAR
VERSION:2.0
PRODID:-//Stadtgeschichte München//DE
CALSCALE:GREGORIAN
BEGIN:VEVENT
UID:18999@stadtgeschichte-muenchen.de
SUMMARY:Stadtteilwoche Allach - Menzing - Pasing
DESCRIPTION:&lt;p&gt;Am Informationsstand der Münchner Volkshochschule erfahren Sie Wissenswertes und Interessantes über das Programm im Münchner Westen, insbesondere im neuen Stadtteilzentrum Allach-Untermenzing am Oertelplatz. Darüber hinaus planen wir für den Infomarkt wieder einige Aktionen, an denen Sie kostenfrei teilnehmen können. Lassen Sie sich überraschen.&lt;/p&gt; 
DTSTART:20200704T130000
DTEND:20200704T180000
LOCATION:Wiese an der Weinschenkstr.
ORGANIZER:MVHS München West
END:VEVENT
END:VCALENDAR