BEGIN:VCALENDAR
VERSION:2.0
PRODID:-//Stadtgeschichte München//DE
CALSCALE:GREGORIAN
BEGIN:VEVENT
UID:19001@stadtgeschichte-muenchen.de
SUMMARY:Untermenzinger Friedhof
DESCRIPTION:&lt;p&gt;Wir besuchen die Gräber ausgewählter namhafter Untermenzinge- rinnen und Untermenzinger im alten und neuen Teil (Parkfriedhof) wie Rosa Aschenbrenner, Korbinian Beer, Heinz Bosl, Josef Felder, Josef Grandl, HL Nepomuk, Matthias Pöschl, Christa Williams, Peter Winter und Anton Würz und erfahren dabei Wissenswertes aus deren Leben. Gemeinsam mit dem Stadtteilhistoriker Dr. Walter Demmel wird auch auf die Kirche, die Leichenhalle und St. Nepomuk geschaut.&lt;/p&gt; 
DTSTART:20200402T160000
DTEND:20200402T173000
LOCATION:Friedhof Untermenzing, Eingang Eversbuschstr. 9a
ORGANIZER:MVHS München West
END:VEVENT
END:VCALENDAR