BEGIN:VCALENDAR
VERSION:2.0
PRODID:-//Stadtgeschichte München//DE
CALSCALE:GREGORIAN
BEGIN:VEVENT
UID:19005@stadtgeschichte-muenchen.de
SUMMARY:Spaziergang Kurfürstenweg
DESCRIPTION:&lt;p&gt;Dieser mehrstündige Spaziergang spricht Kultur- wie Naturschutzaspekte an und verläuft immer wieder auf einem der schon fast vergessenen Münchner Umweltwanderwege. Unsere Tour beginnt an der S-Bahn-Station Untermenzing und führt zunächst durch Siedlungsgebiet zur Würm. Meist entlang der Würm wandern wir an der Blutenburg vorbei und weiter zum Pasing-Nymphenburger Kanal. Entlang des Kanals erreichen wir den Westteil des Nymphenburger Schlossparks und gehen durch den Schlosspark zur Haltestelle Amalienburgstraße (Tram 17, Buslinien 143, 158,162). Länge der Tour ca. 10 km.&lt;/p&gt; &lt;p&gt;Festes Schuhwerk, eine der Witterung angepasste Kleidung, Sonnenschutz, ein Sitzkissen und eine Wegzehrung samt Getränk werden empfohlen.&lt;/p&gt; 
DTSTART:20200620T100000
DTEND:20200620T143000
LOCATION:S-Bahnsteig Untermenzing • Südende am Zugang zur Rampe Fußgänger-/Fahrradunterführung ■ Von-Kahr- Str. ■
ORGANIZER:MVHS München West
END:VEVENT
END:VCALENDAR