BEGIN:VCALENDAR
VERSION:2.0
PRODID:-//Stadtgeschichte München//DE
CALSCALE:GREGORIAN
BEGIN:VEVENT
UID:19078@stadtgeschichte-muenchen.de
SUMMARY:Kostbarkeiten der Schatzkammer in der Residenz
DESCRIPTION:&lt;p&gt;Kronjuwelen, Kinderrasseln und Kuriositäten - es gibt viel zu entdecken in der Schatzkammer der Residenz. Dank der Kunstbegeisterung der Wittelsbacher Herzoge, Kurfürsten und Könige ist heute eine der bedeutendsten fürstlichen Sammlungen in München zu bestaunen, die sich mit denen in Dresden und Wien messen kann. Die Führung bietet einen Überblick über die Geschichte der Sammlung und stellt neben Highlights wie der Georgs-Statuette auch unbekanntere Kostbarkeiten vor.&lt;/p&gt; 
DTSTART:20200705T140000
DTEND:20200705T150000
LOCATION:Residenz - Eingangshalle Residenzmuseum - Residenzstr. 1
ORGANIZER:MVHS
END:VEVENT
END:VCALENDAR