BEGIN:VCALENDAR
VERSION:2.0
PRODID:-//Stadtgeschichte München//DE
CALSCALE:GREGORIAN
BEGIN:VEVENT
UID:19083@stadtgeschichte-muenchen.de
SUMMARY:Kirchen des Historismus
DESCRIPTION:&lt;p&gt;Die Universitätskirche, in der berühmte Theologen und Prediger wie Romano Guardini und Eugen Biser predigten, wurde auf Veranlassung König Ludwigs I. nach Plänen von Friedrich von Gärtner (1791-1847) von 1829-1844 in neuromanischen Formen errichtet und mit reicher Freskenmalerei ausgestattet. Ihr Hauptwerk ist das Monumentalbild „Das Jüngste Gericht&quot; von Peter Cornelius. Während die Renovierung des farbigen Kirchendachs abgeschlossen werden konnte, dauert die Innenrenovierung der Seitenwände und Fresken noch an und ermöglicht damit spannende Einblicke.&lt;/p&gt; 
DTSTART:20200711T110000
DTEND:20200711T130000
LOCATION:St. Ludwig, Kirchenportal - Ludwigstr. 22
ORGANIZER:MVHS
END:VEVENT
END:VCALENDAR