BEGIN:VCALENDAR
VERSION:2.0
PRODID:-//Stadtgeschichte München//DE
CALSCALE:GREGORIAN
BEGIN:VEVENT
UID:19084@stadtgeschichte-muenchen.de
SUMMARY:Kirchen des Historismus
DESCRIPTION:&lt;p&gt;St. Joseph wurde als Hauptpfarrkirche der schnell wachsenden nördlichen Maxvorstadt und Ordenskirche der Kapuziner 1898-1902 erbaut. Im Stil italienischer Spätrenaissance repräsentiert sie als wuchtige Wandpfeilerkirche mit reicher Fassaden- und Turmgestaltung den Prototypen des Münchner Kirchen-Neubarock. Bei starker Beschädigung im Bombenkrieg 1944 ging die wertvolle Inneneinrichtung verloren. Die Kirchenbesichtigung veranschaulicht die Bedeutung und einstigen Glanz des Kirchenbaus.&lt;/p&gt; 
DTSTART:20200718T110000
DTEND:20200718T130000
LOCATION:St. Joseph, Kirchenportal • Josephsplatz
ORGANIZER:MVHS
END:VEVENT
END:VCALENDAR