BEGIN:VCALENDAR
VERSION:2.0
PRODID:-//Stadtgeschichte München//DE
CALSCALE:GREGORIAN
BEGIN:VEVENT
UID:19087@stadtgeschichte-muenchen.de
SUMMARY:Die Theatinerkirche St. Kajetan
DESCRIPTION:&lt;p&gt;Die erste Barockkirche Bayerns zählt zu den schönsten Kirchen Münchens und bestimmt mit den markanten Türmen und der mächtigen Kuppel die Silhouette der Stadt. Nach der Geburt des lang ersehnten Thronfolgers Max Emanuel erfüllten Kurfürst Ferdinand Maria und seine Gemahlin Henriette Adelaide von Savoyen ihr Gelübde. Sie ließen das Gotteshaus unmittelbar gegenüber der Residenz errichten und beauftragten für Bau und Ausstattung ausschließlich italienische Künstler. Die Fassade wurde erst 100 Jahre später durch Frangois Cuvillies d.J. vollendet.&lt;/p&gt; 
DTSTART:20200808T130000
DTEND:20200808T143000
LOCATION:Theatinerkirche - Theatinerstr. 22 (vor dem Hauptportal) •
ORGANIZER:MVHS
END:VEVENT
END:VCALENDAR