BEGIN:VCALENDAR
VERSION:2.0
PRODID:-//Stadtgeschichte München//DE
CALSCALE:GREGORIAN
BEGIN:VEVENT
UID:19095@stadtgeschichte-muenchen.de
SUMMARY:Das Georgianum und seine Kunstsammlung
DESCRIPTION:&lt;p&gt;Das Georgianum ist eine über 500jährige Stiftung von Herzog Georg dem Reichen, die mit der Universität nach München kam. Um den Priesteramtskandidaten einen Bezug zu den Kunstwerken in den von ihnen zu betreuenden Kirchen zu vermitteln, sammelte man über 600 Werke: ein verborgener Schatz von Altargemälden und religiösen Skulpturen vom 12. bis zum 18. Jahrhundert.&lt;/p&gt; &lt;p&gt;Bitte Eintrittsgeld in Höhe von 3,- EUR passend mitbringen.&lt;/p&gt; 
DTSTART:20200526T103000
DTEND:20200526T000000
LOCATION:Herzogliches Georgianum, gegenüber Uni-Eingang, Professor-Huber-Platz 1
ORGANIZER:Münchner Bildungswerk e.V.
END:VEVENT
END:VCALENDAR