BEGIN:VCALENDAR
VERSION:2.0
PRODID:-//Stadtgeschichte München//DE
CALSCALE:GREGORIAN
BEGIN:VEVENT
UID:19097@stadtgeschichte-muenchen.de
SUMMARY:Der Alte Nördliche Friedhof
DESCRIPTION:&lt;p&gt;Stadtbaurat Arnold Zenetti legte den Friedhof 1866 von 1869 an, nachdem der Alte Südliche Friedhof zu eng geworden war. Auf unserem Rundgang erinnern wir an bekannte Persönlichkeiten wie den Lokomotivfabrikanten Georg Ritter von Kraus und den Architekten der Akademie der Bildenden Künste, Gottfried Neureuther. Besonders berührend ist die Skulpturengruppe auf dem Grab des Bildhauers Michael von Wagmüller, die er ursprünglich für die letzte Ruhestätte seiner früh verstorbenen Töchter Michaela und Gabriela schuf.&lt;/p&gt; 
DTSTART:20200712T140000
DTEND:20200712T153000
LOCATION:Alter nördlicher Friedhof, Hauptportal, Arcisstr. 45
ORGANIZER:Münchner Bildungswerk e.V.
END:VEVENT
END:VCALENDAR