BEGIN:VCALENDAR
VERSION:2.0
PRODID:-//Stadtgeschichte München//DE
CALSCALE:GREGORIAN
BEGIN:VEVENT
UID:19152@stadtgeschichte-muenchen.de
SUMMARY:Auf den Spuren von Wirtschaftswunder und Wiederaufbau
DESCRIPTION:&lt;p&gt;Mit dem Gewinn der Fußballweltmeisterschaft 1954 heißt es plötzlich &quot;wir sind wieder wer&quot; - auch in München, das 1945 zu 80 % zerstört ist, aber schon in den 1950er Jahren als &quot;Weltstadt mit Herz&quot; zur heimlichen Hauptstadt Deutschlands avanciert. Lassen Sie sich am Beispiel der jungen Architektin Vera aus dem Roman &quot;&lt;em&gt;Der Himmel über unseren Träumen&lt;/em&gt;&quot; zeigen, wo und wie München in kürzester Zeit aus den Trümmern wieder ersteht, was die aus dem Exil zurückgekehrten Münchner in ihrer alten Heimat erwartet, wie man mit dem schweren Erbe der NS-Zeit umzugehen gedenkt und die Herausforderungen der Moderne meistern will.&lt;/p&gt; &lt;ul&gt; &lt;li&gt;&lt;a href=&quot;https://youtu.be/dG_cfl1lPWk&quot;&gt;Virtueller Spaziergang auf YouTube&lt;/a&gt;&lt;/li&gt; &lt;/ul&gt; 
DTSTART:20200712T110000
DTEND:20200712T130000
LOCATION:Eingang Hugendubel am Karlsplatz/ Stachus, München
ORGANIZER:Rehn Heidi
END:VEVENT
END:VCALENDAR