BEGIN:VCALENDAR
VERSION:2.0
PRODID:-//Stadtgeschichte München//DE
CALSCALE:GREGORIAN
BEGIN:VEVENT
UID:19205@stadtgeschichte-muenchen.de
SUMMARY:St. Peter hinter den Kulissen
DESCRIPTION:&lt;p&gt;St. Peter hinter den Kulissen Schauen Sie mit uns hinter verschlossen Türen auf der Suche nach Kirchenschätze der ältesten Kirche Münchens!&lt;/p&gt; 
DTSTART:20200818T150000
DTEND:20200818T163000
LOCATION:St. Peter, unter der Orgelempore
ORGANIZER:Münchner Bildungswerk e.V.
END:VEVENT
END:VCALENDAR