BEGIN:VCALENDAR
VERSION:2.0
PRODID:-//Stadtgeschichte München//DE
CALSCALE:GREGORIAN
BEGIN:VEVENT
UID:19222@stadtgeschichte-muenchen.de
SUMMARY:Bunt sind alle meine Häuser
DESCRIPTION:&lt;p&gt;Tauchen Sie ein in die faszinierende Vielfalt Münchner Jugendstilfassade&lt;/p&gt; 
DTSTART:20200822T150000
DTEND:20200822T163000
LOCATION:jeweils Ecke Münchner Freiheit/ Haimhauserstraße 
ORGANIZER:Münchner Bildungswerk e.V.
END:VEVENT
END:VCALENDAR