BEGIN:VCALENDAR
VERSION:2.0
PRODID:-//Stadtgeschichte München//DE
CALSCALE:GREGORIAN
BEGIN:VEVENT
UID:19227@stadtgeschichte-muenchen.de
SUMMARY:München wird besser
DESCRIPTION:&lt;p&gt;&lt;strong&gt;Tipps und Tricks für eine praktische Nachhaltigkeit gibt es bei diesem öko-sozialen Rundgang.&lt;/strong&gt;&lt;/p&gt; &lt;p&gt;Täglich gibt es Nachrichten von menschengemachten Naturkatastrophen, zunehmender Armut und Hunger.&lt;br /&gt; Dem setzt sich der Lebensstil der Nachhaltigkeit entgegen. Er soll unser künftiges, besseres Leben prägen: Wo und wie ist dies möglich? Die Tour zeigt viele bekannte und unbekannte Orte, wo echte Nachhaltigkeit bereits gelebt wird.&lt;/p&gt; &lt;p&gt;Bekommen Sie Anregungen, Nachhaltigkeit im eigenen Alltag zu verwirklichen. Eine Tour für Einheimische und Auswärtige.&lt;/p&gt; 
DTSTART:20200806T170000
DTEND:20200806T190000
LOCATION:Bushaltestelle Nationalmuseum (stadteinwärts)
ORGANIZER:STATTreisen München e.V.
END:VEVENT
END:VCALENDAR