BEGIN:VCALENDAR
VERSION:2.0
PRODID:-//Stadtgeschichte München//DE
CALSCALE:GREGORIAN
BEGIN:VEVENT
UID:19270@stadtgeschichte-muenchen.de
SUMMARY:War do net dea Deife im Spui?
DESCRIPTION:&lt;p&gt;Deso ide Münchenv on der Michaelskirchbe is ins Tal Schon im Alten München hat man sich erzählt: Von guadn und schlechtn Kirchenbaumeisterunn d deren HerzögenV. on der Glocke,n die nia ned nach Minga wollt. Dem Wolferl , der unbedingt beim Kurfürst Musi machen wollte. Gab\'s damalsW ohltäte, rdie d Leit glücklichg machth abn?G anzs icher warn Freudu nd Leid ganz eng beinanderA! be,r war des wirklich so? Kanntss ei, dass da da Deife mitgmischt häd? LasstsE uchd azuS agen, aber auch wahre Geschichtenin bairischerM undart erzählenu nd wie die Geschichtes ich zugetragenh at.&lt;/p&gt; 
DTSTART:20201031T140000
DTEND:20201031T160000
LOCATION:Michaelskirche, Haupteingang
ORGANIZER:DGB-Bildungswerk Bayern e.V. Region München
END:VEVENT
END:VCALENDAR