BEGIN:VCALENDAR
VERSION:2.0
PRODID:-//Stadtgeschichte München//DE
CALSCALE:GREGORIAN
BEGIN:VEVENT
UID:19274@stadtgeschichte-muenchen.de
SUMMARY:Der sanfte Revolutionär
DESCRIPTION:&lt;p&gt;Er war ein brillanter Redner, ein bedeutender Anarchist und überzeugter Pazifist, ein vielseitiger Schriftsteller und genialer Übersetzer. Dennoch wäre Gustav Landauers Name heute kaum noch bekannt, hätte ihn nicht Kurt Eisner im November 1918 zu seiner Unterstützung nach München gerufen. Es war eine Einladung in den Tod: Bei der blutigen Niederschlagung der Münchner Räterepublik wurde Gustav Landauer am 2. Mai 1919 grausam ermordet. Gewinnen Sie auf diesem Rundgang einen Eindruck von seiner außergewöhnlichen Persönlichkeit und erfahren Sie, was sich in seinen letzten Lebensmonaten in München ereignete.&lt;/p&gt; 
DTSTART:20200730T170000
DTEND:20200730T190000
LOCATION:Amalienstraße 36
ORGANIZER:DGB-Bildungswerk Bayern e.V. Region München
END:VEVENT
END:VCALENDAR