BEGIN:VCALENDAR
VERSION:2.0
PRODID:-//Stadtgeschichte München//DE
CALSCALE:GREGORIAN
BEGIN:VEVENT
UID:19303@stadtgeschichte-muenchen.de
SUMMARY:Migration in München seit der Nachkriegszeit
DESCRIPTION:&lt;p&gt;Im Münchner Stadtmuseum ist derzeit noch die Ausstellung &quot;Migration bewegt die Stadt. Perspektiven wechseln&quot; zu sehen. Sie ist ein sichtbares Beispiel, dass Migration zu München gehört wie zu jeder wachsenden Großstadt. Wie hat sich Ein- und Auswandern hier in den letzten Jahrzehnten abgespielt? Wo? Warum? Ausgehend vom Stadtmueseum besuchen wir repräsentative Orte, wie das Bellevue di Monaco, das EineWeltHaus, die Landwehrstraße und den Hauptbahnhof auf Gleis 11.&lt;/p&gt; &lt;p&gt;&lt;br /&gt; Dabei beschäftigen wir uns mit der Frage, wie über das Thema gesprochen wird, lernen Definitionen, Debatten und Bilder kennen.&lt;/p&gt; 
DTSTART:20200904T160000
DTEND:20200904T180000
LOCATION:Münchner Stadtmuseum, Foyer, St.-Jakobs-Platz 1
ORGANIZER:DGB-Bildungswerk Bayern e.V. Region München
END:VEVENT
END:VCALENDAR