BEGIN:VCALENDAR
VERSION:2.0
PRODID:-//Stadtgeschichte München//DE
CALSCALE:GREGORIAN
BEGIN:VEVENT
UID:19340@stadtgeschichte-muenchen.de
SUMMARY:Im Grünen (Park, Garten, Botanik)
DESCRIPTION:&lt;p&gt;Die Führung ist auf 15 Teilnehmer beschränkt.&lt;/p&gt; 
DTSTART:20200705T140000
DTEND:20200705T000000
LOCATION:Residenzmodell am Max-Joseph-Platz
ORGANIZER:Bayerische Schlösserverwaltung
END:VEVENT
END:VCALENDAR