BEGIN:VCALENDAR
VERSION:2.0
PRODID:-//Stadtgeschichte München//DE
CALSCALE:GREGORIAN
BEGIN:VEVENT
UID:19341@stadtgeschichte-muenchen.de
SUMMARY:Wenn der Kaiser kommt …
DESCRIPTION:&lt;p&gt;Bitte lösen Sie Ihre Eintrittskarte an der Kasse des Residenzmuseums, bevor Sie sich auf den Weg zum Treffpunkt machen. In den Innenräumen besteht Maskenpflicht.&lt;/p&gt; &lt;p&gt;Die Führung ist auf 10 Teilnehmer beschränkt.&lt;br /&gt; &lt;br /&gt; &amp;nbsp;&lt;/p&gt; 
DTSTART:20200712T110000
DTEND:20200712T000000
LOCATION:Residenzmodell am Max-Joseph-Platz
ORGANIZER:Bayerische Schlösserverwaltung
END:VEVENT
END:VCALENDAR