BEGIN:VCALENDAR
VERSION:2.0
PRODID:-//Stadtgeschichte München//DE
CALSCALE:GREGORIAN
BEGIN:VEVENT
UID:19358@stadtgeschichte-muenchen.de
SUMMARY:Großprojekte in München
DESCRIPTION:&lt;p&gt;Bei unserem Online-Spaziergang stellen wir Ihnen wichtige Großprojekte vor. Wir sprechen über die künftige Nutzung der denkmalgeschützten Paketposthalle an der Friedenheimer Brücke. Nach den Plänen von Herzog &amp;amp; de Meuron entsteht dort ein urbanes Quartier mit Wohnungen, Büros und Einzelhandel. Spannend wird auch der neue Hauptbahnhof, der mit seinem Vorplatz ein modernes „Tor zur Stadt“ bilden soll. Außerdem sprechen wir über die Tiefgarage am Thomas-Wimmer-Ring. Hier entsteht am Rande der Altstadt ein neuer Mobilitätshotspot.&lt;/p&gt; &lt;p&gt;Eine Anmeldung ist über folgenden Link erforderlich:&amp;nbsp;&lt;a href=&quot;https://veranstaltungen.muenchen.de/plan/veranstaltungen&quot; target=&quot;_blank&quot;&gt;https://veranstaltungen.muenchen.de/plan/veranstaltungen&lt;/a&gt;. Die Login-Daten sowie eine Anleitung zur Technik werden nach erfolgreicher Anmeldung per E-Mail zugeschickt.&lt;/p&gt; 
DTSTART:20200717T160000
DTEND:20200717T000000
LOCATION:Online
ORGANIZER:PlanTreff - Referat für Stadtplanung und Bauordnung
END:VEVENT
END:VCALENDAR