BEGIN:VCALENDAR
VERSION:2.0
PRODID:-//Stadtgeschichte München//DE
CALSCALE:GREGORIAN
BEGIN:VEVENT
UID:19391@stadtgeschichte-muenchen.de
SUMMARY:Der Hof und seine Welt im Grünen
DESCRIPTION:&lt;p&gt;Eine Außen- und Parkführung&lt;/p&gt; &lt;p&gt;&amp;nbsp;&lt;/p&gt; 
DTSTART:20200829T150000
DTEND:20200829T000000
LOCATION:vor dem Hauptschloss stadtseitig
ORGANIZER:Bayerische Schlösserverwaltung
END:VEVENT
END:VCALENDAR