BEGIN:VCALENDAR
VERSION:2.0
PRODID:-//Stadtgeschichte München//DE
CALSCALE:GREGORIAN
BEGIN:VEVENT
UID:19396@stadtgeschichte-muenchen.de
SUMMARY:Gegossene Schönheiten
DESCRIPTION:
DTSTART:20200906T110000
DTEND:20200906T000000
LOCATION:Residenzmodell am Max-Joseph-Platz
ORGANIZER:Bayerische Schlösserverwaltung
END:VEVENT
END:VCALENDAR